BEGIN:VCALENDAR
VERSION:2.0
PRODID:-//Architects, not Architecture. - ECPv6.15.11//NONSGML v1.0//EN
CALSCALE:GREGORIAN
METHOD:PUBLISH
X-WR-CALNAME:Architects, not Architecture.
X-ORIGINAL-URL:https://www.architectsnotarchitecture.com
X-WR-CALDESC:Events for Architects, not Architecture.
REFRESH-INTERVAL;VALUE=DURATION:PT1H
X-Robots-Tag:noindex
X-PUBLISHED-TTL:PT1H
BEGIN:VTIMEZONE
TZID:Europe/Madrid
BEGIN:DAYLIGHT
TZOFFSETFROM:+0100
TZOFFSETTO:+0200
TZNAME:CEST
DTSTART:20250330T010000
END:DAYLIGHT
BEGIN:STANDARD
TZOFFSETFROM:+0200
TZOFFSETTO:+0100
TZNAME:CET
DTSTART:20251026T010000
END:STANDARD
BEGIN:DAYLIGHT
TZOFFSETFROM:+0100
TZOFFSETTO:+0200
TZNAME:CEST
DTSTART:20260329T010000
END:DAYLIGHT
BEGIN:STANDARD
TZOFFSETFROM:+0200
TZOFFSETTO:+0100
TZNAME:CET
DTSTART:20261025T010000
END:STANDARD
BEGIN:DAYLIGHT
TZOFFSETFROM:+0100
TZOFFSETTO:+0200
TZNAME:CEST
DTSTART:20270328T010000
END:DAYLIGHT
BEGIN:STANDARD
TZOFFSETFROM:+0200
TZOFFSETTO:+0100
TZNAME:CET
DTSTART:20271031T010000
END:STANDARD
END:VTIMEZONE
BEGIN:VTIMEZONE
TZID:Australia/Melbourne
BEGIN:STANDARD
TZOFFSETFROM:+1100
TZOFFSETTO:+1000
TZNAME:AEST
DTSTART:20250405T160000
END:STANDARD
BEGIN:DAYLIGHT
TZOFFSETFROM:+1000
TZOFFSETTO:+1100
TZNAME:AEDT
DTSTART:20251004T160000
END:DAYLIGHT
BEGIN:STANDARD
TZOFFSETFROM:+1100
TZOFFSETTO:+1000
TZNAME:AEST
DTSTART:20260404T160000
END:STANDARD
BEGIN:DAYLIGHT
TZOFFSETFROM:+1000
TZOFFSETTO:+1100
TZNAME:AEDT
DTSTART:20261003T160000
END:DAYLIGHT
BEGIN:STANDARD
TZOFFSETFROM:+1100
TZOFFSETTO:+1000
TZNAME:AEST
DTSTART:20270403T160000
END:STANDARD
BEGIN:DAYLIGHT
TZOFFSETFROM:+1000
TZOFFSETTO:+1100
TZNAME:AEDT
DTSTART:20271002T160000
END:DAYLIGHT
END:VTIMEZONE
BEGIN:VTIMEZONE
TZID:Asia/Dubai
BEGIN:STANDARD
TZOFFSETFROM:+0400
TZOFFSETTO:+0400
TZNAME:+04
DTSTART:20250101T000000
END:STANDARD
END:VTIMEZONE
BEGIN:VTIMEZONE
TZID:Europe/London
BEGIN:DAYLIGHT
TZOFFSETFROM:+0000
TZOFFSETTO:+0100
TZNAME:BST
DTSTART:20250330T010000
END:DAYLIGHT
BEGIN:STANDARD
TZOFFSETFROM:+0100
TZOFFSETTO:+0000
TZNAME:GMT
DTSTART:20251026T010000
END:STANDARD
BEGIN:DAYLIGHT
TZOFFSETFROM:+0000
TZOFFSETTO:+0100
TZNAME:BST
DTSTART:20260329T010000
END:DAYLIGHT
BEGIN:STANDARD
TZOFFSETFROM:+0100
TZOFFSETTO:+0000
TZNAME:GMT
DTSTART:20261025T010000
END:STANDARD
BEGIN:DAYLIGHT
TZOFFSETFROM:+0000
TZOFFSETTO:+0100
TZNAME:BST
DTSTART:20270328T010000
END:DAYLIGHT
BEGIN:STANDARD
TZOFFSETFROM:+0100
TZOFFSETTO:+0000
TZNAME:GMT
DTSTART:20271031T010000
END:STANDARD
END:VTIMEZONE
BEGIN:VEVENT
DTSTART;TZID=Europe/Madrid:20260702T183000
DTEND;TZID=Europe/Madrid:20260702T220000
DTSTAMP:20260420T080653
CREATED:20260408T143800Z
LAST-MODIFIED:20260409T162732Z
UID:37060-1783017000-1783029600@www.architectsnotarchitecture.com
SUMMARY:AnA Barcelona 2026
DESCRIPTION:We are finalizing the details for AnA London 2026. We will share full information regarding our speakers\, the agenda\, and ticket availability very soon. Please stay tuned for further updates!
URL:https://www.architectsnotarchitecture.com/event/barcelona-2026/
LOCATION:La Pedrera – Casa Milà\, Pg. de Gràcia\, 92\, Barcelona\, 08008\, Spain
ATTACH;FMTTYPE=image/jpeg:https://www.architectsnotarchitecture.com/wp-content/uploads/2026/04/Flyer-AnA-Barcelona-2026-with-Velux-3-1.jpg
END:VEVENT
BEGIN:VEVENT
DTSTART;TZID=Europe/Madrid:20260903T173000
DTEND;TZID=Europe/Madrid:20260903T210000
DTSTAMP:20260420T080653
CREATED:20260419T214101Z
LAST-MODIFIED:20260419T214223Z
UID:37167-1788456600-1788469200@www.architectsnotarchitecture.com
SUMMARY:AnA Copenhagen 2026
DESCRIPTION:We are finalizing the details for AnA London 2026. We will share full information regarding our speakers\, the agenda\, and ticket availability very soon. Please stay tuned for further updates!
URL:https://www.architectsnotarchitecture.com/event/copenhagen-2026/
LOCATION:St. James Church\, Clerkenwell\, Clerkenwell Close\, London EC1R 0EA\, United Kingdom\, London\, EC1R 0EA\, United Kingdom
ATTACH;FMTTYPE=image/jpeg:https://www.architectsnotarchitecture.com/wp-content/uploads/2026/04/Placeholder-Cph-2026.jpg
END:VEVENT
BEGIN:VEVENT
DTSTART;TZID=Australia/Melbourne:20261022T173000
DTEND;TZID=Australia/Melbourne:20261022T210000
DTSTAMP:20260420T080653
CREATED:20260419T214650Z
LAST-MODIFIED:20260419T214650Z
UID:37172-1792690200-1792702800@www.architectsnotarchitecture.com
SUMMARY:AnA Melbourne 2026
DESCRIPTION:We are finalizing the details for AnA London 2026. We will share full information regarding our speakers\, the agenda\, and ticket availability very soon. Please stay tuned for further updates!
URL:https://www.architectsnotarchitecture.com/event/melbourne-2026/
LOCATION:St. James Church\, Clerkenwell\, Clerkenwell Close\, London EC1R 0EA\, United Kingdom\, London\, EC1R 0EA\, United Kingdom
ATTACH;FMTTYPE=image/jpeg:https://www.architectsnotarchitecture.com/wp-content/uploads/2026/04/Placeholder-MEL-2026.jpg
END:VEVENT
BEGIN:VEVENT
DTSTART;TZID=Asia/Dubai:20261105T170000
DTEND;TZID=Asia/Dubai:20261105T203000
DTSTAMP:20260420T080653
CREATED:20260419T220031Z
LAST-MODIFIED:20260419T220651Z
UID:37174-1793898000-1793910600@www.architectsnotarchitecture.com
SUMMARY:AnA Dubai 2026
DESCRIPTION:We are finalizing the details for AnA London 2026. We will share full information regarding our speakers\, the agenda\, and ticket availability very soon. Please stay tuned for further updates!
URL:https://www.architectsnotarchitecture.com/event/dubai-2026/
ATTACH;FMTTYPE=image/jpeg:https://www.architectsnotarchitecture.com/wp-content/uploads/2026/04/placeholder-dubai.jpg
END:VEVENT
BEGIN:VEVENT
DTSTART;TZID=Europe/London:20261111T183000
DTEND;TZID=Europe/London:20261111T220000
DTSTAMP:20260420T080653
CREATED:20260419T212838Z
LAST-MODIFIED:20260419T220813Z
UID:37159-1794421800-1794434400@www.architectsnotarchitecture.com
SUMMARY:AnA London 2026
DESCRIPTION:We are finalizing the details for AnA London 2026. We will share full information regarding our speakers\, the agenda\, and ticket availability very soon. Please stay tuned for further updates!
URL:https://www.architectsnotarchitecture.com/event/london-2026/
LOCATION:St. James Church\, Clerkenwell\, Clerkenwell Close\, London EC1R 0EA\, United Kingdom\, London\, EC1R 0EA\, United Kingdom
ATTACH;FMTTYPE=image/jpeg:https://www.architectsnotarchitecture.com/wp-content/uploads/2026/04/Placeholder-LON-2026-low.jpg
END:VEVENT
END:VCALENDAR